
BEGIN:VCALENDAR
VERSION:2.0
PRODID:-//Royal Poker Tour//RPT Championship III//RPT HIGH ROLLER CLUB//EN
BEGIN:VEVENT
UID:01000000-4909-3915-07e0-08de9ed6e562
DTSTAMP;TZID=Asia/Hanoi:20260611T140000
DTSTART;TZID=Asia/Hanoi:20260611T140000
DTEND;TZID=Asia/Hanoi:20260611T235959
SUMMARY:RPT HIGH ROLLER CLUB
DESCRIPTION:Game: Texas Hold'em (NL)\nBuy-In: 50,000,000 + 5,000,000 VND\nGTD: 1,200,000,000 VND\nStack: 200,000\nLevels: 35 min\nLate Reg: 12 lvl @ 21:00
LOCATION:Royal Poker Club, Hanoi, Viet Nam
END:VEVENT
END:VCALENDAR
