
BEGIN:VCALENDAR
VERSION:2.0
PRODID:-//Poker Dream//Poker Dream Malaysia 15//Mystery Bounty - Turbo //EN
BEGIN:VEVENT
UID:01000000-a9fe-0a58-5ccc-08dd2ffbba58
DTSTAMP;TZID=Asia/Kuala_Lumpur:20250125T150000
DTSTART;TZID=Asia/Kuala_Lumpur:20250125T150000
DTEND;TZID=Asia/Kuala_Lumpur:20250125T235959
SUMMARY:Mystery Bounty - Turbo 
DESCRIPTION:Game: Texas Hold'em (NL)\nBuy-In: 786 + 214 MYR
LOCATION:Resorts World Genting, Malaysia, Pahang, Malaysia
END:VEVENT
END:VCALENDAR
