
BEGIN:VCALENDAR
VERSION:2.0
PRODID:-//Poker Dream//Poker Dream 22 Jeju//Mystery Bounty High Roller//EN
BEGIN:VEVENT
UID:01000000-3971-2ef2-d3da-08de9a1d1857
DTSTAMP;TZID=Asia/Seoul:20260508T130000
DTSTART;TZID=Asia/Seoul:20260508T130000
DTEND;TZID=Asia/Seoul:20260509T235959
SUMMARY:Mystery Bounty High Roller
DESCRIPTION:Featured\nGame: Texas Hold'em (NL)\nBuy-In: 5,115,000 + 385,000 KRW\nStack: 300,000
LOCATION:LES A Casino, Jeju, South Korea
END:VEVENT
END:VCALENDAR
