
BEGIN:VCALENDAR
VERSION:2.0
PRODID:-//Asia Pacific Poker Tour//APPT Championship 2026//Big O//EN
BEGIN:VEVENT
UID:01000000-3971-2ef2-89b8-08de90b46c62
DTSTAMP;TZID=Asia/Manila:20261014T113000
DTSTART;TZID=Asia/Manila:20261014T113000
DTEND;TZID=Asia/Manila:20261014T235959
SUMMARY:Big O
DESCRIPTION:Game: Mixed (PL)\nBuy-In: 12,672 + 2,328 PHP\nStack: 25,000\nLevels: 20 min\nLate Reg: @ 14:30
LOCATION:Okada Manila, Manila, Philippines
END:VEVENT
END:VCALENDAR
