
BEGIN:VCALENDAR
VERSION:2.0
PRODID:-//World Poker Games//WPG Taiwan 2026//3-2-1 Game//EN
BEGIN:VEVENT
UID:01000000-4909-3915-ae9c-08de9c6bd393
DTSTAMP;TZID=Asia/Taipei:20260530T210000
DTSTART;TZID=Asia/Taipei:20260530T210000
DTEND;TZID=Asia/Taipei:20260530T235959
SUMMARY:3-2-1 Game
DESCRIPTION:Game: Texas Hold'em (NL)\nBuy-In: 2,550 + 450 TWD\nStack: 20,000\nLevels: 15 min\nLate Reg: 9 lvl @  23:10
LOCATION:CTP Asia Poker Arena, Taipei City, Taiwan
END:VEVENT
END:VCALENDAR
