
BEGIN:VCALENDAR
VERSION:2.0
PRODID:-//Asia Pacific Poker Tour//APPT Championship 2026//Survivor Knockout//EN
BEGIN:VEVENT
UID:01000000-3971-2ef2-a7d4-08de90b46cf9
DTSTAMP;TZID=Asia/Manila:20261014T130000
DTSTART;TZID=Asia/Manila:20261014T130000
DTEND;TZID=Asia/Manila:20261015T235959
SUMMARY:Survivor Knockout
DESCRIPTION:Featured\nGame: Texas Hold'em (NL)\nBuy-In: 21,120 + 3,880 PHP\nGTD: 5,000,000 PHP\nStack: 30,000
LOCATION:Okada Manila, Manila, Philippines
END:VEVENT
END:VCALENDAR
