
BEGIN:VCALENDAR
VERSION:2.0
PRODID:-//Royal Poker Tour//RPT Championship III//RPT MICRO MAIN EVENT//EN
BEGIN:VEVENT
UID:01000000-4909-3915-fbde-08de9ed6e548
DTSTAMP;TZID=Asia/Hanoi:20260611T113000
DTSTART;TZID=Asia/Hanoi:20260611T113000
DTEND;TZID=Asia/Hanoi:20260611T235959
SUMMARY:RPT MICRO MAIN EVENT
DESCRIPTION:Game: Texas Hold'em (NL)\nBuy-In: 6,000,000 + 600,000 VND\nGTD: 600,000,000 VND\nStack: 40,000\nLevels: 35 min\nLate Reg: 12 lvl @ 18:30
LOCATION:Royal Poker Club, Hanoi, Viet Nam
END:VEVENT
END:VCALENDAR
