
BEGIN:VCALENDAR
VERSION:2.0
PRODID:-//U Series Championship//U Series Champ. Osaka Q2 2026//PLO Deep//EN
BEGIN:VEVENT
UID:01000000-3971-2ef2-3603-08de91633b0f
DTSTAMP;TZID=Asia/Tokyo:20260504T150000
DTSTART;TZID=Asia/Tokyo:20260504T150000
DTEND;TZID=Asia/Tokyo:20260504T235959
SUMMARY:PLO Deep
DESCRIPTION:Game: Omaha (PL)\nBuy-In: 22,000 +  JPY\nStack: 50,000\nLevels: 25 min\nLate Reg: @ 18:40
LOCATION:Dojima River Forum, Osaka, Japan
END:VEVENT
END:VCALENDAR
