
BEGIN:VCALENDAR
VERSION:2.0
PRODID:-//Poker Dream//Poker Dream 22 Jeju//Monster Stack//EN
BEGIN:VEVENT
UID:01000000-3971-2ef2-8edd-08de9a1d184c
DTSTAMP;TZID=Asia/Seoul:20260508T130000
DTSTART;TZID=Asia/Seoul:20260508T130000
DTEND;TZID=Asia/Seoul:20260509T235959
SUMMARY:Monster Stack
DESCRIPTION:Featured\nGame: Texas Hold'em (NL)\nBuy-In: 1,365,000 + 135,000 KRW\nGTD: 200,000,000 KRW\nStack: 50,000
LOCATION:LES A Casino, Jeju, South Korea
END:VEVENT
END:VCALENDAR
