
BEGIN:VCALENDAR
VERSION:2.0
PRODID:-//U Series Championship//U Series Champ. Osaka Q2 2026//PLO Open//EN
BEGIN:VEVENT
UID:01000000-3971-2ef2-1f12-08de916338e5
DTSTAMP;TZID=Asia/Tokyo:20260429T180000
DTSTART;TZID=Asia/Tokyo:20260429T180000
DTEND;TZID=Asia/Tokyo:20260429T235959
SUMMARY:PLO Open
DESCRIPTION:Game: Omaha (PL)\nBuy-In: 22,000 +  JPY\nStack: 40,000\nLevels: 25 min\nLate Reg: @ 21:20
LOCATION:Dojima River Forum, Osaka, Japan
END:VEVENT
END:VCALENDAR
