
BEGIN:VCALENDAR
VERSION:2.0
PRODID:-//OLA Poker Tour//OLA Poker Tour Taipei 2025//Ola Main Event//EN
BEGIN:VEVENT
UID:01000000-a9fe-0a58-ba4b-08de207c86ac
DTSTAMP;TZID=Asia/Taipei:20251219T130000
DTSTART;TZID=Asia/Taipei:20251219T130000
DTEND;TZID=Asia/Taipei:20251222T235959
SUMMARY:Ola Main Event
DESCRIPTION:Main Event\nFeatured\nGame: Texas Hold'em (NL)\nBuy-In: 20,000 + 2,000 TWD\nGTD: 10,000,000 TWD\nStack: 25,000
LOCATION:CTP Asia Poker Arena, Taipei City, Taiwan
END:VEVENT
END:VCALENDAR
