
BEGIN:VCALENDAR
VERSION:2.0
PRODID:-//Alluxi Athena Poker Tournament//AAPT Season I//MONSTER STACK//EN
BEGIN:VEVENT
UID:01000000-a9fe-0a58-c98b-08dd8e1fdb22
DTSTAMP;TZID=Asia/Vientiane:20250617T130000
DTSTART;TZID=Asia/Vientiane:20250617T130000
DTEND;TZID=Asia/Vientiane:20250617T235959
SUMMARY:MONSTER STACK
DESCRIPTION:Game: Texas Hold'em (NL)\nBuy-In: 500 + 50 USD\nStack: 40,000\nLevels: 30 min\nLate Reg: 9 lvl @ 17:55
LOCATION:Alluxi Casino, Van Pak Len, Lao People's Democratic Republic
END:VEVENT
END:VCALENDAR
