
BEGIN:VCALENDAR
VERSION:2.0
PRODID:-//Ace Poker League//Ace Poker League Osaka 2025//Midnight Turbo//EN
BEGIN:VEVENT
UID:01000000-a9fe-0a58-0f43-08dd8280b58d
DTSTAMP;TZID=Asia/Tokyo:20250502T240000
DTSTART;TZID=Asia/Tokyo:20250502T240000
DTEND;TZID=Asia/Tokyo:20250502T235959
SUMMARY:Midnight Turbo
DESCRIPTION:Game: Texas Hold'em (NL)\nBuy-In: 10,000 +  JPY\nStack: 20,000\nLate Reg: @ 25:25
LOCATION:Dojima River Forum, Osaka, Japan
END:VEVENT
END:VCALENDAR
