
BEGIN:VCALENDAR
VERSION:2.0
PRODID:-//U Series Of Poker//Grand Loyal Poker Championship - Hanoi 2025//WEEKEND DEEPSTACK//EN
BEGIN:VEVENT
UID:01000000-a9fe-0a58-a427-08ddef65b279
DTSTAMP;TZID=Asia/Hanoi:20251018T150000
DTSTART;TZID=Asia/Hanoi:20251018T150000
DTEND;TZID=Asia/Hanoi:20251018T235959
SUMMARY:WEEKEND DEEPSTACK
DESCRIPTION:Game: Texas Hold'em (NL)\nBuy-In: 4,900,000 + 600,000 VND\nStack: 30,000\nLevels: 25 min\nLate Reg: 9 lvl @ 18:40
LOCATION:Grand Loyal Poker Club, Hanoi, Viet Nam
END:VEVENT
END:VCALENDAR
