
BEGIN:VCALENDAR
VERSION:2.0
PRODID:-//World Poker Games//World Poker Games Taiwan 2026//PLO 6//EN
BEGIN:VEVENT
UID:01000000-4909-3915-85a2-08de9c6bd37b
DTSTAMP;TZID=Asia/Taipei:20260530T180000
DTSTART;TZID=Asia/Taipei:20260530T180000
DTEND;TZID=Asia/Taipei:20260530T235959
SUMMARY:PLO 6
DESCRIPTION:Game: Omaha (PL)\nBuy-In: 4,400 + 600 TWD\nStack: 20,000\nLevels: 15 min\nLate Reg: 9 lvl @  20:15
LOCATION:CTP Asia Poker Arena, Taipei City, Taiwan
END:VEVENT
END:VCALENDAR
