
BEGIN:VCALENDAR
VERSION:2.0
PRODID:-//Poker Dream//Poker Dream 22 Jeju//Mystery Bounty - Turbo//EN
BEGIN:VEVENT
UID:01000000-3971-2ef2-7311-08de9a1d1798
DTSTAMP;TZID=Asia/Seoul:20260507T220000
DTSTART;TZID=Asia/Seoul:20260507T220000
DTEND;TZID=Asia/Seoul:20260507T235959
SUMMARY:Mystery Bounty - Turbo
DESCRIPTION:Game: Texas Hold'em (NL)\nBuy-In: 356,000 + 44,000 KRW\nStack: 15,000\nLevels: 15 min\nLate Reg: 7 lvl @ 00:00
LOCATION:LES A Casino, Jeju, South Korea
END:VEVENT
END:VCALENDAR
