
BEGIN:VCALENDAR
VERSION:2.0
PRODID:-//Royal Poker Tour//RPT Championship II//RPT SATURDAY KING - LIVE//EN
BEGIN:VEVENT
UID:01000000-3fa8-b42d-5342-08de6e39fa06
DTSTAMP;TZID=Asia/Hanoi:20260328T113000
DTSTART;TZID=Asia/Hanoi:20260328T113000
DTEND;TZID=Asia/Hanoi:20260328T235959
SUMMARY:RPT SATURDAY KING - LIVE
DESCRIPTION:Game: Texas Hold'em (NL)\nBuy-In: 8,000,000 + 800,000 VND\nGTD: 800,000,000 VND\nStack: 40,000\nLevels: 35 min\nLate Reg: 12 lvl @ 18:30
LOCATION:Royal Poker Club, Hanoi, Viet Nam
END:VEVENT
END:VCALENDAR
