
BEGIN:VCALENDAR
VERSION:2.0
PRODID:-//World Poker Games//World Poker Games Taiwan 2026//NLH Turbo//EN
BEGIN:VEVENT
UID:01000000-4909-3915-c93d-08de9c6bd364
DTSTAMP;TZID=Asia/Taipei:20260530T173000
DTSTART;TZID=Asia/Taipei:20260530T173000
DTEND;TZID=Asia/Taipei:20260530T235959
SUMMARY:NLH Turbo
DESCRIPTION:Game: Texas Hold'em (NL)\nBuy-In: 3,400 + 600 TWD\nStack: 20,000\nLevels: 15 min\nLate Reg: 9 lvl @  19:45
LOCATION:CTP Asia Poker Arena, Taipei City, Taiwan
END:VEVENT
END:VCALENDAR
