
BEGIN:VCALENDAR
VERSION:2.0
PRODID:-//U Series Championship//U Series Champ. Osaka Q2 2026//Mystery HUNTER//EN
BEGIN:VEVENT
UID:01000000-3971-2ef2-3aeb-08de91633afc
DTSTAMP;TZID=Asia/Tokyo:20260504T120000
DTSTART;TZID=Asia/Tokyo:20260504T120000
DTEND;TZID=Asia/Tokyo:20260504T235959
SUMMARY:Mystery HUNTER
DESCRIPTION:Game: Texas Hold'em (NL)\nBuy-In: 30,000 +  JPY\nStack: 40,000\nLevels: 30 min\nLate Reg: @ 16:20
LOCATION:Dojima River Forum, Osaka, Japan
END:VEVENT
END:VCALENDAR
