
BEGIN:VCALENDAR
VERSION:2.0
PRODID:-//World Poker Tour//WPT Prime Taiwan 2025//MINI CHAMPIONSHIP FREEZEOUT D2//EN
BEGIN:VEVENT
UID:01000000-a9fe-0a58-9ade-08ddabd52a2b
DTSTAMP;TZID=Asia/Taipei:20250818T130000
DTSTART;TZID=Asia/Taipei:20250818T130000
DTEND;TZID=Asia/Taipei:20250818T235959
SUMMARY:MINI CHAMPIONSHIP FREEZEOUT D2
DESCRIPTION:Game: Texas Hold'em (NL)\nBuy-In: 8,800 + 1,200 TWD\nLevels: 40 min
LOCATION:CTP Asia Poker Arena, Taipei City, Taiwan
END:VEVENT
END:VCALENDAR
