
BEGIN:VCALENDAR
VERSION:2.0
PRODID:-//World Poker Games//World Poker Games Taiwan 2026//Win the Button//EN
BEGIN:VEVENT
UID:01000000-4909-3915-8457-08de9c6bd359
DTSTAMP;TZID=Asia/Taipei:20260530T150000
DTSTART;TZID=Asia/Taipei:20260530T150000
DTEND;TZID=Asia/Taipei:20260530T235959
SUMMARY:Win the Button
DESCRIPTION:Game: Texas Hold'em (NL)\nBuy-In: 5,950 + 1,050 TWD\nStack: 20,000\nLevels: 15 min\nLate Reg: 9 lvl @  17:10
LOCATION:CTP Asia Poker Arena, Taipei City, Taiwan
END:VEVENT
END:VCALENDAR
