
BEGIN:VCALENDAR
VERSION:2.0
PRODID:-//Poker Dream//Poker Dream 22 Jeju//Short Deck Ante Only//EN
BEGIN:VEVENT
UID:01000000-3971-2ef2-b0c6-08de9a1d176a
DTSTAMP;TZID=Asia/Seoul:20260507T170000
DTSTART;TZID=Asia/Seoul:20260507T170000
DTEND;TZID=Asia/Seoul:20260507T235959
SUMMARY:Short Deck Ante Only
DESCRIPTION:Game: Texas Hold'em (NL)\nBuy-In: 6,510,000 + 490,000 KRW\nStack: 100,000\nLevels: 30 min\nLate Reg: 8 lvl @ 21:30
LOCATION:LES A Casino, Jeju, South Korea
END:VEVENT
END:VCALENDAR
