
BEGIN:VCALENDAR
VERSION:2.0
PRODID:-//Asia Pacific Poker Tour//APPT Championship 2026//Freezeout//EN
BEGIN:VEVENT
UID:01000000-3971-2ef2-7b22-08de90b46c20
DTSTAMP;TZID=Asia/Manila:20261013T160000
DTSTART;TZID=Asia/Manila:20261013T160000
DTEND;TZID=Asia/Manila:20261013T235959
SUMMARY:Freezeout
DESCRIPTION:Game: Texas Hold'em (NL)\nBuy-In: 21,120 + 3,880 PHP\nStack: 30,000\nLevels: 20 min\nLate Reg: @ 19:00
LOCATION:Okada Manila, Manila, Philippines
END:VEVENT
END:VCALENDAR
