
BEGIN:VCALENDAR
VERSION:2.0
PRODID:-//Jeju Poker Festival//Jeju Poker Festival 2025//Baby Dragon//EN
BEGIN:VEVENT
UID:01000000-a9fe-0a58-0c15-08ddefa3f3e0
DTSTAMP;TZID=Asia/Seoul:20251106T130000
DTSTART;TZID=Asia/Seoul:20251106T130000
DTEND;TZID=Asia/Seoul:20251108T235959
SUMMARY:Baby Dragon
DESCRIPTION:Featured\nGame: Texas Hold'em (NL)\nBuy-In: 1,350,000 + 150,000 KRW\nStack: 30,000
LOCATION:LES A Casino, Jeju, South Korea
END:VEVENT
END:VCALENDAR
