
BEGIN:VCALENDAR
VERSION:2.0
PRODID:-//World Poker Games//World Poker Games Taiwan 2026//Mega Stack//EN
BEGIN:VEVENT
UID:01000000-4909-3915-295b-08de9c6bd34e
DTSTAMP;TZID=Asia/Taipei:20260530T130000
DTSTART;TZID=Asia/Taipei:20260530T130000
DTEND;TZID=Asia/Taipei:20260530T235959
SUMMARY:Mega Stack
DESCRIPTION:Game: Texas Hold'em (NL)\nBuy-In: 5,100 + 900 TWD\nStack: 40,000\nLevels: 25 min\nLate Reg: 11 lvl @  17:40
LOCATION:CTP Asia Poker Arena, Taipei City, Taiwan
END:VEVENT
END:VCALENDAR
