
BEGIN:VCALENDAR
VERSION:2.0
PRODID:-//Asia Pacific Poker Tour//APPT Championship 2026//Championship MEGA Qualifier - WYS@80K//EN
BEGIN:VEVENT
UID:01000000-3971-2ef2-2b9c-08de90b46c15
DTSTAMP;TZID=Asia/Manila:20261013T150000
DTSTART;TZID=Asia/Manila:20261013T150000
DTEND;TZID=Asia/Manila:20261013T235959
SUMMARY:Championship MEGA Qualifier - WYS@80K
DESCRIPTION:Game: Texas Hold'em (NL)\nBuy-In: 2,365 + 435 PHP\nStack: 10,000\nLevels: 12 min\nLate Reg: @ 16:36
LOCATION:Okada Manila, Manila, Philippines
END:VEVENT
END:VCALENDAR
