
BEGIN:VCALENDAR
VERSION:2.0
PRODID:-//Asia Pacific Poker Tour//APPT Championship 2026//Survivor Knockout [₱250K Bounty]//EN
BEGIN:VEVENT
UID:01000000-3971-2ef2-6258-08de90b46bfe
DTSTAMP;TZID=Asia/Manila:20261013T130000
DTSTART;TZID=Asia/Manila:20261013T130000
DTEND;TZID=Asia/Manila:20261013T235959
SUMMARY:Survivor Knockout [₱250K Bounty]
DESCRIPTION:Game: Texas Hold'em (NL)\nBuy-In: 109,200 + 15,800 PHP\nStack: 100,000\nLevels: 15 min\nLate Reg: @ 15:40
LOCATION:Okada Manila, Manila, Philippines
END:VEVENT
END:VCALENDAR
