
BEGIN:VCALENDAR
VERSION:2.0
PRODID:-//Poker Dream//Poker Dream Malaysia 15//Short Deck Ante Only//EN
BEGIN:VEVENT
UID:01000000-a9fe-0a58-db9e-08dd2fb09e70
DTSTAMP;TZID=Asia/Kuala_Lumpur:20250124T130000
DTSTART;TZID=Asia/Kuala_Lumpur:20250124T130000
DTEND;TZID=Asia/Kuala_Lumpur:20250124T235959
SUMMARY:Short Deck Ante Only
DESCRIPTION:Game: Texas Hold'em (NL)\nBuy-In: 9,853 + 2,147 MYR
LOCATION:Resorts World Genting, Malaysia, Pahang, Malaysia
END:VEVENT
END:VCALENDAR
