
BEGIN:VCALENDAR
VERSION:2.0
PRODID:-//Royal Poker Tour//RPT Championship III//RPT MEGASTACK//EN
BEGIN:VEVENT
UID:01000000-4909-3915-6d91-08de9ed6e4b2
DTSTAMP;TZID=Asia/Hanoi:20260610T113000
DTSTART;TZID=Asia/Hanoi:20260610T113000
DTEND;TZID=Asia/Hanoi:20260610T235959
SUMMARY:RPT MEGASTACK
DESCRIPTION:Game: Texas Hold'em (NL)\nBuy-In: 8,000,000 + 800,000 VND\nGTD: 800,000,000 VND\nStack: 50,000\nLevels: 35 min\nLate Reg: 12 lvl @ 18:30
LOCATION:Royal Poker Club, Hanoi, Viet Nam
END:VEVENT
END:VCALENDAR
