
BEGIN:VCALENDAR
VERSION:2.0
PRODID:-//Asian Poker Tour//APT Jeju South Korea 2025//NL - Holdem//EN
BEGIN:VEVENT
UID:01000000-a9fe-0a58-638c-08ddb488f512
DTSTAMP;TZID=Asia/Seoul:20250930T111500
DTSTART;TZID=Asia/Seoul:20250930T111500
DTEND;TZID=Asia/Seoul:20250930T235959
SUMMARY:NL - Holdem
DESCRIPTION:Game: Texas Hold'em (NL)\nBuy-In: 1,000,000 +  KRW\nLate Reg: @ 15:55
LOCATION:LES A Casino, Jeju, South Korea
END:VEVENT
END:VCALENDAR
