
BEGIN:VCALENDAR
VERSION:2.0
PRODID:-//Taiwan Millions Tournament//Taiwan Millions Tournament TMT 18//Ladies Event//EN
BEGIN:VEVENT
UID:01000000-a9fe-0a58-90fb-08dda4fe0356
DTSTAMP;TZID=Asia/Taipei:20250725T140000
DTSTART;TZID=Asia/Taipei:20250725T140000
DTEND;TZID=Asia/Taipei:20250725T235959
SUMMARY:Ladies Event
DESCRIPTION:Game: Texas Hold'em (NL)\nBuy-In: 2,125 + 375 TWD\nStack: 20,000\nLevels: 20 min\nLate Reg: 6 lvl @ 16:10
LOCATION:Red Space, Taipei, Taiwan
END:VEVENT
END:VCALENDAR
