
BEGIN:VCALENDAR
VERSION:2.0
PRODID:-//Poker Dream//Poker Dream 22 Jeju//NLH - Hyper Turbo//EN
BEGIN:VEVENT
UID:01000000-3971-2ef2-9f64-08de9a1d170f
DTSTAMP;TZID=Asia/Seoul:20260506T230000
DTSTART;TZID=Asia/Seoul:20260506T230000
DTEND;TZID=Asia/Seoul:20260506T235959
SUMMARY:NLH - Hyper Turbo
DESCRIPTION:Game: Texas Hold'em (NL)\nBuy-In: 356,000 + 44,000 KRW\nStack: 15,000\nLevels: 10 min\nLate Reg: 7 lvl @ 00:20
LOCATION:LES A Casino, Jeju, South Korea
END:VEVENT
END:VCALENDAR
