
BEGIN:VCALENDAR
VERSION:2.0
PRODID:-//World Poker Games//World Poker Games Taiwan 2026//Hyper Turbo//EN
BEGIN:VEVENT
UID:01000000-4909-3915-5268-08de9c6bd312
DTSTAMP;TZID=Asia/Taipei:20260529T200000
DTSTART;TZID=Asia/Taipei:20260529T200000
DTEND;TZID=Asia/Taipei:20260529T235959
SUMMARY:Hyper Turbo
DESCRIPTION:Game: Texas Hold'em (NL)\nBuy-In: 3,400 + 600 TWD\nStack: 15,000\nLevels: 10 min\nLate Reg: 9 lvl @  21:30
LOCATION:CTP Asia Poker Arena, Taipei City, Taiwan
END:VEVENT
END:VCALENDAR
