
BEGIN:VCALENDAR
VERSION:2.0
PRODID:-//Jeju Poker Festival//Jeju Poker Festival 2025//2M NLH Short Deck//EN
BEGIN:VEVENT
UID:01000000-a9fe-0a58-3b7f-08ddefa3d568
DTSTAMP;TZID=Asia/Seoul:20251105T150000
DTSTART;TZID=Asia/Seoul:20251105T150000
DTEND;TZID=Asia/Seoul:20251105T235959
SUMMARY:2M NLH Short Deck
DESCRIPTION:Game: Texas Hold'em (NL)\nBuy-In: 1,800,000 + 200,000 KRW\nStack: 100,000\nLevels: 20 min\nLate Reg: 8 lvl @ 18:10
LOCATION:LES A Casino, Jeju, South Korea
END:VEVENT
END:VCALENDAR
