
BEGIN:VCALENDAR
VERSION:2.0
PRODID:-//Royal Poker Tour//RPT Championship II//RPT MONSTER STACK - LIVE//EN
BEGIN:VEVENT
UID:01000000-3fa8-b42d-00f5-08de6e39f999
DTSTAMP;TZID=Asia/Hanoi:20260327T113000
DTSTART;TZID=Asia/Hanoi:20260327T113000
DTEND;TZID=Asia/Hanoi:20260327T235959
SUMMARY:RPT MONSTER STACK - LIVE
DESCRIPTION:Game: Texas Hold'em (NL)\nBuy-In: 10,000,000 + 1,000,000 VND\nGTD: 1,000,000,000 VND\nStack: 50,000\nLevels: 35 min\nLate Reg: 12 lvl @ 18:30
LOCATION:Royal Poker Club, Hanoi, Viet Nam
END:VEVENT
END:VCALENDAR
