
BEGIN:VCALENDAR
VERSION:2.0
PRODID:-//U Series Championship//U Series Champ. Osaka Q2 2026//PLO Night//EN
BEGIN:VEVENT
UID:01000000-3971-2ef2-a973-08de91633ab9
DTSTAMP;TZID=Asia/Tokyo:20260503T190000
DTSTART;TZID=Asia/Tokyo:20260503T190000
DTEND;TZID=Asia/Tokyo:20260503T235959
SUMMARY:PLO Night
DESCRIPTION:Game: Omaha (PL)\nBuy-In: 20,000 +  JPY\nStack: 30,000\nLevels: 30 min\nLate Reg: @ 22:20
LOCATION:Dojima River Forum, Osaka, Japan
END:VEVENT
END:VCALENDAR
