
BEGIN:VCALENDAR
VERSION:2.0
PRODID:-//PokerStars Live//Manila Megastack 23//Main Event//EN
BEGIN:VEVENT
UID:01000000-a9fe-0a58-f3f4-08de14aa42fd
DTSTAMP;TZID=Asia/Manila:20251204T130000
DTSTART;TZID=Asia/Manila:20251204T130000
DTEND;TZID=Asia/Manila:20251208T235959
SUMMARY:Main Event
DESCRIPTION:Main Event\nFeatured\nGame: Texas Hold'em (NL)\nBuy-In: 45,000 + 5,000 PHP\nGTD: 20,000,000 PHP\nStack: 30,000\nLevels: 40 min
LOCATION:Okada Manila, Manila, Philippines
END:VEVENT
END:VCALENDAR
