
BEGIN:VCALENDAR
VERSION:2.0
PRODID:-//Asia Pacific Poker Tour//APPT Championship 2026//Double Stack//EN
BEGIN:VEVENT
UID:01000000-3971-2ef2-befe-08de90b46bc5
DTSTAMP;TZID=Asia/Manila:20261013T110000
DTSTART;TZID=Asia/Manila:20261013T110000
DTEND;TZID=Asia/Manila:20261013T235959
SUMMARY:Double Stack
DESCRIPTION:Game: Texas Hold'em (NL)\nBuy-In: 12,672 + 2,328 PHP\nStack: 30,000\nLevels: 25 min\nLate Reg: @ 14:40
LOCATION:Okada Manila, Manila, Philippines
END:VEVENT
END:VCALENDAR
