
BEGIN:VCALENDAR
VERSION:2.0
PRODID:-//Players Series//PS Championship III Taipei 2026//PS Mystery Bounty//EN
BEGIN:VEVENT
UID:01000000-a9fe-0a58-0259-08de420ad583
DTSTAMP;TZID=Asia/Taipei:20260303T130000
DTSTART;TZID=Asia/Taipei:20260303T130000
DTEND;TZID=Asia/Taipei:20260305T235959
SUMMARY:PS Mystery Bounty
DESCRIPTION:Featured\nGame: Texas Hold'em (NL)\nBuy-In: 18,000 + 2,000 TWD\nGTD: 3,500,000 TWD\nStack: 30,000
LOCATION:CTP Asia Poker Arena, Taipei City, Taiwan
END:VEVENT
END:VCALENDAR
