
BEGIN:VCALENDAR
VERSION:2.0
PRODID:-//Poker Dream//Poker Dream 22 Jeju//Mystery Bounty - Turbo//EN
BEGIN:VEVENT
UID:01000000-3971-2ef2-f802-08de9a1d16ed
DTSTAMP;TZID=Asia/Seoul:20260506T200000
DTSTART;TZID=Asia/Seoul:20260506T200000
DTEND;TZID=Asia/Seoul:20260506T235959
SUMMARY:Mystery Bounty - Turbo
DESCRIPTION:Game: Texas Hold'em (NL)\nBuy-In: 546,000 + 54,000 KRW\nStack: 15,000\nLevels: 15 min\nLate Reg: 7 lvl @ 22:00
LOCATION:LES A Casino, Jeju, South Korea
END:VEVENT
END:VCALENDAR
