
BEGIN:VCALENDAR
VERSION:2.0
PRODID:-//K Poker Cup//KPC x LPT Series 2026//Challenger//EN
BEGIN:VEVENT
UID:01000000-a9fe-0a58-3963-08de29a033b1
DTSTAMP;TZID=Asia/Seoul:20260110T130000
DTSTART;TZID=Asia/Seoul:20260110T130000
DTEND;TZID=Asia/Seoul:20260112T235959
SUMMARY:Challenger
DESCRIPTION:Game: Texas Hold'em (NL)\nBuy-In: 1,800,000 + 200,000 KRW\nGTD: 300,000,000 KRW\nStack: 35,000
LOCATION:LES A Casino, Jeju, South Korea
END:VEVENT
END:VCALENDAR
