
BEGIN:VCALENDAR
VERSION:2.0
PRODID:-//Asia Pacific Poker Tour//APPT Championship 2026//Super Deep Hyper Turbo//EN
BEGIN:VEVENT
UID:01000000-3971-2ef2-d892-08de90b46bae
DTSTAMP;TZID=Asia/Manila:20261012T203000
DTSTART;TZID=Asia/Manila:20261012T203000
DTEND;TZID=Asia/Manila:20261012T235959
SUMMARY:Super Deep Hyper Turbo
DESCRIPTION:Game: Texas Hold'em (NL)\nBuy-In: 30,912 + 4,088 PHP\nStack: 50,000\nLevels: 10 min\nLate Reg: @ 22:30
LOCATION:Okada Manila, Manila, Philippines
END:VEVENT
END:VCALENDAR
