
BEGIN:VCALENDAR
VERSION:2.0
PRODID:-//Asia Pacific Poker Tour//APPT Manila 2025//Single Re-Entry//EN
BEGIN:VEVENT
UID:01000000-a9fe-0a58-92e7-08dda2a20842
DTSTAMP;TZID=Asia/Manila:20250728T150000
DTSTART;TZID=Asia/Manila:20250728T150000
DTEND;TZID=Asia/Manila:20250728T235959
SUMMARY:Single Re-Entry
DESCRIPTION:Game: Texas Hold'em (NL)\nBuy-In: 25,000 +  PHP\nStack: 30,000\nLevels: 20 min\nLate Reg: 10 lvl @ 18:40
LOCATION:Okada Manila, Manila, Philippines
END:VEVENT
END:VCALENDAR
