
BEGIN:VCALENDAR
VERSION:2.0
PRODID:-//Royal Poker Tour//RPT Championship III//RPT MINI DEEPSTACK (25% ITM)//EN
BEGIN:VEVENT
UID:01000000-4909-3915-e51e-08de9ed6e438
DTSTAMP;TZID=Asia/Hanoi:20260609T170000
DTSTART;TZID=Asia/Hanoi:20260609T170000
DTEND;TZID=Asia/Hanoi:20260609T235959
SUMMARY:RPT MINI DEEPSTACK (25% ITM)
DESCRIPTION:Game: Texas Hold'em (NL)\nBuy-In: 4,000,000 + 500,000 VND\nGTD: 120,000,000 VND\nStack: 40,000\nLevels: 25 min\nLate Reg: 10 lvl @ 21:05
LOCATION:Royal Poker Club, Hanoi, Viet Nam
END:VEVENT
END:VCALENDAR
