
BEGIN:VCALENDAR
VERSION:2.0
PRODID:-//Poker Dream//Poker Dream 22 Jeju//NLH - Deepstack//EN
BEGIN:VEVENT
UID:01000000-3971-2ef2-5010-08de9a1d16cc
DTSTAMP;TZID=Asia/Seoul:20260506T150000
DTSTART;TZID=Asia/Seoul:20260506T150000
DTEND;TZID=Asia/Seoul:20260506T235959
SUMMARY:NLH - Deepstack
DESCRIPTION:Game: Texas Hold'em (NL)\nBuy-In: 728,000 + 72,000 KRW\nStack: 40,000\nLevels: 25 min\nLate Reg: 8 lvl @ 18:50
LOCATION:LES A Casino, Jeju, South Korea
END:VEVENT
END:VCALENDAR
