
BEGIN:VCALENDAR
VERSION:2.0
PRODID:-//U Series Championship//U Series Champ. Osaka Q2 2026//Freezeout Light//EN
BEGIN:VEVENT
UID:01000000-3971-2ef2-d481-08de91633aa4
DTSTAMP;TZID=Asia/Tokyo:20260503T163000
DTSTART;TZID=Asia/Tokyo:20260503T163000
DTEND;TZID=Asia/Tokyo:20260503T235959
SUMMARY:Freezeout Light
DESCRIPTION:Game: Texas Hold'em (NL)\nBuy-In: 20,000 +  JPY\nStack: 40,000\nLevels: 20 min\nLate Reg: @ 19:30
LOCATION:Dojima River Forum, Osaka, Japan
END:VEVENT
END:VCALENDAR
