
BEGIN:VCALENDAR
VERSION:2.0
PRODID:-//Vietnam Poker Tour//VPT Championship II 2025//Deepstack Turbo Special//EN
BEGIN:VEVENT
UID:01000000-a9fe-0a58-21ac-08dde64e4637
DTSTAMP;TZID=Asia/Hanoi:20251107T193000
DTSTART;TZID=Asia/Hanoi:20251107T193000
DTEND;TZID=Asia/Hanoi:20251107T235959
SUMMARY:Deepstack Turbo Special
DESCRIPTION:Game: null (null)\nBuy-In: 4,000,000 + 500,000 VND\nStack: 15,000\nLate Reg: 9 lvl @ 21:40
LOCATION:Corona Casino and Resort, Phú Quốc, Viet Nam
END:VEVENT
END:VCALENDAR
