
BEGIN:VCALENDAR
VERSION:2.0
PRODID:-//Asia Pacific Poker Tour//APPT Championship 2026//Ultrastack//EN
BEGIN:VEVENT
UID:01000000-3971-2ef2-3801-08de90b46984
DTSTAMP;TZID=Asia/Manila:20261008T150000
DTSTART;TZID=Asia/Manila:20261008T150000
DTEND;TZID=Asia/Manila:20261008T235959
SUMMARY:Ultrastack
DESCRIPTION:Game: Texas Hold'em (NL)\nBuy-In: 12,672 + 2,328 PHP\nStack: 50,000\nLevels: 20 min\nLate Reg: @ 18:40
LOCATION:Okada Manila, Manila, Philippines
END:VEVENT
END:VCALENDAR
