
BEGIN:VCALENDAR
VERSION:2.0
PRODID:-//Asia Pacific Poker Tour//APPT Manila 2025//Super Knockout [₱10K Bounty]//EN
BEGIN:VEVENT
UID:01000000-a9fe-0a58-cb01-08dda2a1d4b8
DTSTAMP;TZID=Asia/Manila:20250723T190000
DTSTART;TZID=Asia/Manila:20250723T190000
DTEND;TZID=Asia/Manila:20250723T235959
SUMMARY:Super Knockout [₱10K Bounty]
DESCRIPTION:Game: Texas Hold'em (NL)\nBuy-In: 20,000 +  PHP\nStack: 25,000\nLevels: 15 min\nLate Reg: 8 lvl @ 21:10
LOCATION:Okada Manila, Manila, Philippines
END:VEVENT
END:VCALENDAR
