
BEGIN:VCALENDAR
VERSION:2.0
PRODID:-//Poker Dream//Poker Dream 19 Malaysia//NLH - Hyper Turbo//EN
BEGIN:VEVENT
UID:01000000-a9fe-0a58-728a-08ddf93413e5
DTSTAMP;TZID=Asia/Kuala_Lumpur:20251023T220000
DTSTART;TZID=Asia/Kuala_Lumpur:20251023T220000
DTEND;TZID=Asia/Kuala_Lumpur:20251023T235959
SUMMARY:NLH - Hyper Turbo
DESCRIPTION:Game: Texas Hold'em (NL)\nBuy-In: 786 + 214 MYR\nStack: 15,000\nLevels: 10 min\nLate Reg: 7 lvl @ 23:25
LOCATION:Resorts World Genting, Malaysia, Pahang, Malaysia
END:VEVENT
END:VCALENDAR
